BEGIN:VCALENDAR
VERSION:2.0
PRODID:-//Finnskogen Kro og Motell - ECPv6.2.9//NONSGML v1.0//EN
CALSCALE:GREGORIAN
METHOD:PUBLISH
X-ORIGINAL-URL:https://finnskogen.no
X-WR-CALDESC:Arrangement for Finnskogen Kro og Motell
REFRESH-INTERVAL;VALUE=DURATION:PT1H
X-Robots-Tag:noindex
X-PUBLISHED-TTL:PT1H
BEGIN:VTIMEZONE
TZID:UTC
BEGIN:STANDARD
TZOFFSETFROM:+0000
TZOFFSETTO:+0000
TZNAME:UTC
DTSTART:20250101T000000
END:STANDARD
END:VTIMEZONE
BEGIN:VEVENT
DTSTART;TZID=UTC:20250529T180000
DTEND;TZID=UTC:20250529T210000
DTSTAMP:20260421T141242
CREATED:20250518T071306Z
LAST-MODIFIED:20250518T071306Z
UID:2173-1748541600-1748552400@finnskogen.no
SUMMARY:TORSDAG 29: VELKOMMEN TIL EN PUBKVELD- OG SELVSAGT HAR VI MAT OG ANDRE TING  KL 18
DESCRIPTION:VELKOMMEN TIL  EN HYGGEKVELD MED MAT OG DRIKKE
URL:https://finnskogen.no/event/torsdag-29-velkommen-til-en-pubkveld-og-selvsagt-har-vi-mat-og-andre-ting-kl-18/
END:VEVENT
END:VCALENDAR