BEGIN:VCALENDAR
VERSION:2.0
PRODID:-//Finnskogen Kro og Motell - ECPv6.2.9//NONSGML v1.0//EN
CALSCALE:GREGORIAN
METHOD:PUBLISH
X-ORIGINAL-URL:https://finnskogen.no
X-WR-CALDESC:Arrangement for Finnskogen Kro og Motell
REFRESH-INTERVAL;VALUE=DURATION:PT1H
X-Robots-Tag:noindex
X-PUBLISHED-TTL:PT1H
BEGIN:VTIMEZONE
TZID:UTC
BEGIN:STANDARD
TZOFFSETFROM:+0000
TZOFFSETTO:+0000
TZNAME:UTC
DTSTART:20250101T000000
END:STANDARD
END:VTIMEZONE
BEGIN:VEVENT
DTSTART;TZID=UTC:20250606T110000
DTEND;TZID=UTC:20250609T170000
DTSTAMP:20260421T114737
CREATED:20250420T181059Z
LAST-MODIFIED:20250420T181235Z
UID:2158-1749207600-1749488400@finnskogen.no
SUMMARY:JUNI 6-9 ER DET FINNSKOGMART'N - MARKEDET ER ÅPENT FRA 11-17 (fredag fra kl 14-18)
DESCRIPTION:FINNSKOGMART’N MED MASSE UTSTILLERE \nFREDAG ER DET ÅPENT FRA 14-18 LØRDAG-MANDAG FRA KL 11-17 \nMANGE UTSTILLERE MED FINE VARER ER KLARE TIL Å HA EN HYGGELIG PINSE. \nER DU UTSTILLER- SOM IKKE HAR BESTILT PLASS- RING MEG PÅ TLF 90175084. VII HAR NOEN FÅ PLASSER IGJEN.
URL:https://finnskogen.no/event/juni-6-9-er-det-finnskogmartn-markedet-er-apent-fra-11-17-fredag-fra-kl-14-18/
END:VEVENT
BEGIN:VEVENT
DTSTART;TZID=UTC:20250607T190000
DTEND;TZID=UTC:20250607T230000
DTSTAMP:20260421T114737
CREATED:20250420T181545Z
LAST-MODIFIED:20250420T181545Z
UID:2162-1749322800-1749337200@finnskogen.no
SUMMARY:LØRDAG 7. JUNI- PINSEAFTEN KL 19 HYGGEKVELD MED FRODE NIELSEN
DESCRIPTION:EN KVELD MED FRODE NIELAEN BLIR EN FANTASTISK KVELD \nINNGANG KR 100\,-
URL:https://finnskogen.no/event/lordag-7-juni-pinseaften-kl-19-hyggekveld-med-frode-nielsen/
END:VEVENT
END:VCALENDAR