BEGIN:VCALENDAR
VERSION:2.0
PRODID:-//Finnskogen Kro og Motell - ECPv6.2.9//NONSGML v1.0//EN
CALSCALE:GREGORIAN
METHOD:PUBLISH
X-WR-CALNAME:Finnskogen Kro og Motell
X-ORIGINAL-URL:https://finnskogen.no
X-WR-CALDESC:Arrangement for Finnskogen Kro og Motell
REFRESH-INTERVAL;VALUE=DURATION:PT1H
X-Robots-Tag:noindex
X-PUBLISHED-TTL:PT1H
BEGIN:VTIMEZONE
TZID:UTC
BEGIN:STANDARD
TZOFFSETFROM:+0000
TZOFFSETTO:+0000
TZNAME:UTC
DTSTART:20250101T000000
END:STANDARD
END:VTIMEZONE
BEGIN:VEVENT
DTSTART;TZID=UTC:20250710T180000
DTEND;TZID=UTC:20250710T230000
DTSTAMP:20260425T104130
CREATED:20250605T194847Z
LAST-MODIFIED:20250618T200126Z
UID:2180-1752170400-1752188400@finnskogen.no
SUMMARY:TORSDAG 10. JULI VARMER OPP PÅ KROA med mat og drikke- underholdning med FRODE NIESLEN KL 18
DESCRIPTION:MAT OG DRIKKE- OG LITT UNDERHOLDNING. VELKOMMEN
URL:https://finnskogen.no/event/torsdag-10-juli-varmer-opp-pa-kroa-med-god-mat-og-drikke-og-litt-underholdning-fra-kl-18/
END:VEVENT
END:VCALENDAR