BEGIN:VCALENDAR
VERSION:2.0
PRODID:-//Finnskogen Kro og Motell - ECPv6.2.9//NONSGML v1.0//EN
CALSCALE:GREGORIAN
METHOD:PUBLISH
X-ORIGINAL-URL:https://finnskogen.no
X-WR-CALDESC:Arrangement for Finnskogen Kro og Motell
REFRESH-INTERVAL;VALUE=DURATION:PT1H
X-Robots-Tag:noindex
X-PUBLISHED-TTL:PT1H
BEGIN:VTIMEZONE
TZID:UTC
BEGIN:STANDARD
TZOFFSETFROM:+0000
TZOFFSETTO:+0000
TZNAME:UTC
DTSTART:20250101T000000
END:STANDARD
END:VTIMEZONE
BEGIN:VEVENT
DTSTART;TZID=UTC:20250711T110000
DTEND;TZID=UTC:20250713T170000
DTSTAMP:20260425T104649
CREATED:20250706T094149Z
LAST-MODIFIED:20250706T094149Z
UID:2211-1752231600-1752426000@finnskogen.no
SUMMARY:STOR MARKED 11-13 JULI FRA KL 11- 17  MASSE FLINKE UTSTILLERE
DESCRIPTION:
URL:https://finnskogen.no/event/stor-marked-11-13-juli-fra-kl-11-17-masse-flinke-utstillere/
END:VEVENT
BEGIN:VEVENT
DTSTART;TZID=UTC:20250712T100000
DTEND;TZID=UTC:20250712T140000
DTSTAMP:20260425T104649
CREATED:20250706T094934Z
LAST-MODIFIED:20250706T094934Z
UID:2215-1752314400-1752328800@finnskogen.no
SUMMARY:LØRDAG 12. JULI  : BUSSTUR KLOKKEN 10. SKOGENS NATUR\,KULTUR\, MUSIKK\, LYRIKK\, MYSTIKK\, KOMIKK - KAFFE OG KAKE KR 395\,- 4 TIMER
DESCRIPTION:En meget spennende busstur på 4 time. Øivind Roos\, Tore Hestbråten. Eva Vermundsberget \nDette blir bra. kaffe og kake serveres under turen- \nbestill billetter på tlf 90175084  kr 305\,-
URL:https://finnskogen.no/event/lordag-12-juli-busstur-klokken-10-skogens-naturkultur-musikk-lyrikk-mystikk-komikk-kaffe-og-kake-kr-395-4-timer/
END:VEVENT
BEGIN:VEVENT
DTSTART;TZID=UTC:20250712T120000
DTEND;TZID=UTC:20250712T150000
DTSTAMP:20260425T104649
CREATED:20250706T095205Z
LAST-MODIFIED:20250706T095205Z
UID:2217-1752321600-1752332400@finnskogen.no
SUMMARY:lørdag 12: bokmesse på Finnskogen kro  kl 12- 15 gratis adgang-
DESCRIPTION:ca 15 skribenter er tilstede denne dagen- her blir det sikkert en hyggelig dag\,
URL:https://finnskogen.no/event/lordag-12-bokmesse-pa-finnskogen-kro-kl-12-15-gratis-adgang/
END:VEVENT
BEGIN:VEVENT
DTSTART;TZID=UTC:20250712T200000
DTEND;TZID=UTC:20250712T233000
DTSTAMP:20260425T104649
CREATED:20250706T095834Z
LAST-MODIFIED:20250706T095850Z
UID:2219-1752350400-1752363000@finnskogen.no
SUMMARY:lørdag 12: GRENSELØS MOROKUL-  BENGT BERG OG ØIVIND ROOS LOVER OSS EN FESTKVELD  KL 20  - KR 200
DESCRIPTION:DETTE BLIR EN «FRESK»  KVELD. ØIVIND OG BENGT SKAL FÅ MED SEG ALT MULI- DIKT-SKRØNER\, VISER LUN HUMØR- OG VI TROR DET KOMMER NOE ANNET OGSÅ\,\,\,\,\,\,\,\,\,\,\,\,\,\,\,\,\,\,  VELKOMMEN KL 20. KUN KR 200\,-
URL:https://finnskogen.no/event/lordag-12-grenselos-morokul-bengt-berg-og-oivind-roos-lover-oss-en-festkveld-kl-20-kr-200/
END:VEVENT
END:VCALENDAR