BEGIN:VCALENDAR
VERSION:2.0
PRODID:-//Finnskogen Kro og Motell - ECPv6.2.9//NONSGML v1.0//EN
CALSCALE:GREGORIAN
METHOD:PUBLISH
X-ORIGINAL-URL:https://finnskogen.no
X-WR-CALDESC:Arrangement for Finnskogen Kro og Motell
REFRESH-INTERVAL;VALUE=DURATION:PT1H
X-Robots-Tag:noindex
X-PUBLISHED-TTL:PT1H
BEGIN:VTIMEZONE
TZID:UTC
BEGIN:STANDARD
TZOFFSETFROM:+0000
TZOFFSETTO:+0000
TZNAME:UTC
DTSTART:20250101T000000
END:STANDARD
END:VTIMEZONE
BEGIN:VEVENT
DTSTART;TZID=UTC:20250711T110000
DTEND;TZID=UTC:20250713T170000
DTSTAMP:20260425T104553
CREATED:20250706T094149Z
LAST-MODIFIED:20250706T094149Z
UID:2211-1752231600-1752426000@finnskogen.no
SUMMARY:STOR MARKED 11-13 JULI FRA KL 11- 17  MASSE FLINKE UTSTILLERE
DESCRIPTION:
URL:https://finnskogen.no/event/stor-marked-11-13-juli-fra-kl-11-17-masse-flinke-utstillere/
END:VEVENT
BEGIN:VEVENT
DTSTART;TZID=UTC:20250713T130000
DTEND;TZID=UTC:20250713T140000
DTSTAMP:20260425T104553
CREATED:20250605T194245Z
LAST-MODIFIED:20250706T093735Z
UID:2178-1752411600-1752415200@finnskogen.no
SUMMARY:SØNDAG 13 JULI: BUSKESPILL KLOKKEN 13  UTENFOR FINNSKOGEN KRO
DESCRIPTION:
URL:https://finnskogen.no/event/sondag-29-juni-auksjon-klokken-12-visning-fra-kl-11-masse-fine-saker/
END:VEVENT
BEGIN:VEVENT
DTSTART;TZID=UTC:20250713T130000
DTEND;TZID=UTC:20250713T170000
DTSTAMP:20260425T104553
CREATED:20250706T093957Z
LAST-MODIFIED:20250706T093957Z
UID:2209-1752411600-1752426000@finnskogen.no
SUMMARY:SØNDAG 13. JULI KL 13.00  BRUDEPARET KOMMER UTENFOR FINNSKOGEN KRO. HER BLIR DET FEST!!!
DESCRIPTION:
URL:https://finnskogen.no/event/sondag-13-juli-kl-13-00-brudeparet-kommer-utenfor-finnskogen-kro-her-blir-det-fest/
END:VEVENT
END:VCALENDAR