BEGIN:VCALENDAR
VERSION:2.0
PRODID:-//Finnskogen Kro og Motell - ECPv6.2.9//NONSGML v1.0//EN
CALSCALE:GREGORIAN
METHOD:PUBLISH
X-WR-CALNAME:Finnskogen Kro og Motell
X-ORIGINAL-URL:https://finnskogen.no
X-WR-CALDESC:Arrangement for Finnskogen Kro og Motell
REFRESH-INTERVAL;VALUE=DURATION:PT1H
X-Robots-Tag:noindex
X-PUBLISHED-TTL:PT1H
BEGIN:VTIMEZONE
TZID:UTC
BEGIN:STANDARD
TZOFFSETFROM:+0000
TZOFFSETTO:+0000
TZNAME:UTC
DTSTART:20250101T000000
END:STANDARD
END:VTIMEZONE
BEGIN:VEVENT
DTSTART;TZID=UTC:20251017T200000
DTEND;TZID=UTC:20251017T233000
DTSTAMP:20260423T170457
CREATED:20250930T071118Z
LAST-MODIFIED:20250930T071118Z
UID:2255-1760731200-1760743800@finnskogen.no
SUMMARY:FREDAG 17. OKTOBER FESTKVELD ETTER ARRANGEMENTET ETTER SKOLEN  FRA KL 20
DESCRIPTION:
URL:https://finnskogen.no/event/fredag-17-oktober-festkveld-etter-arrangementet-etter-skolen-fra-kl-20/
END:VEVENT
END:VCALENDAR