BEGIN:VCALENDAR
VERSION:2.0
PRODID:-//Finnskogen Kro og Motell - ECPv6.2.9//NONSGML v1.0//EN
CALSCALE:GREGORIAN
METHOD:PUBLISH
X-ORIGINAL-URL:https://finnskogen.no
X-WR-CALDESC:Arrangement for Finnskogen Kro og Motell
REFRESH-INTERVAL;VALUE=DURATION:PT1H
X-Robots-Tag:noindex
X-PUBLISHED-TTL:PT1H
BEGIN:VTIMEZONE
TZID:UTC
BEGIN:STANDARD
TZOFFSETFROM:+0000
TZOFFSETTO:+0000
TZNAME:UTC
DTSTART:20250101T000000
END:STANDARD
END:VTIMEZONE
BEGIN:VEVENT
DTSTART;TZID=UTC:20251025T100000
DTEND;TZID=UTC:20251026T190000
DTSTAMP:20260423T171225
CREATED:20251023T152532Z
LAST-MODIFIED:20251023T152532Z
UID:2326-1761386400-1761505200@finnskogen.no
SUMMARY:LØRDAG OG SØNDAG 25. OG 26. OKTOBER BRUKTBUTIKK ÅPEN FRA 11-16 KROA ER ÅPEN FRA 10-19
DESCRIPTION:BRUKT-BUTIKKEN er åpen fra 11-16- lys og engler m.m. selges inne på kroa.kROA ER ÅPEN FRA 10-19 SERVERER MAT OG DRIKKE HELE DAGEN
URL:https://finnskogen.no/event/lordag-og-sondag-25-og-26-oktober-bruktbutikk-apen-fra-11-16-kroa-er-apen-fra-10-19/
END:VEVENT
END:VCALENDAR