BEGIN:VCALENDAR
VERSION:2.0
PRODID:-//Finnskogen Kro og Motell - ECPv6.2.9//NONSGML v1.0//EN
CALSCALE:GREGORIAN
METHOD:PUBLISH
X-WR-CALNAME:Finnskogen Kro og Motell
X-ORIGINAL-URL:https://finnskogen.no
X-WR-CALDESC:Arrangement for Finnskogen Kro og Motell
REFRESH-INTERVAL;VALUE=DURATION:PT1H
X-Robots-Tag:noindex
X-PUBLISHED-TTL:PT1H
BEGIN:VTIMEZONE
TZID:UTC
BEGIN:STANDARD
TZOFFSETFROM:+0000
TZOFFSETTO:+0000
TZNAME:UTC
DTSTART:20240101T000000
END:STANDARD
END:VTIMEZONE
BEGIN:VEVENT
DTSTART;TZID=UTC:20241130T110000
DTEND;TZID=UTC:20241201T170000
DTSTAMP:20260421T101015
CREATED:20240824T163311Z
LAST-MODIFIED:20240824T163311Z
UID:1992-1732964400-1733072400@finnskogen.no
SUMMARY:JULEMARKED 30.NOVEMBER  OG 1. DESEMBER KL 11- 17- ARRANGEMENTET FOREGÅR INNE
DESCRIPTION:VELKOMMEN TIL VÅRT JULEMARKED. HER ER DET MEGET DYKTIGE UTSTILLERE SOM ER PÅ PLASS- OG SELVSAGT SERVERER VI JULEMAT.
URL:https://finnskogen.no/event/julemarked-30-november-og-1-desember-kl-11-17-arrangementet-foregar-inne/
END:VEVENT
BEGIN:VEVENT
DTSTART;TZID=UTC:20241224T173000
DTEND;TZID=UTC:20241224T203000
DTSTAMP:20260421T101015
CREATED:20241125T134724Z
LAST-MODIFIED:20241125T134724Z
UID:2034-1735061400-1735072200@finnskogen.no
SUMMARY:HYGGEKVELD JULAFTEN 24.12 KL 17.30
DESCRIPTION:VELKOMMEN JULEAFTEN TIL EN HYGGEKVELD. VI SERVERER JULEMAT- DESSERT\, KAFFE OG KAKE \nKUN KR 250\,-  TORE HESTBRÅTHEN VIL UNDERHOLDE OSS LITT DEN KVELDEN. \nBESTILLING: TLF 90175084 \nHJERTELIG VELKOMMEN
URL:https://finnskogen.no/event/hyggekveld-julaften-24-12-kl-17-30/
END:VEVENT
BEGIN:VEVENT
DTSTART;TZID=UTC:20241226T120000
DTEND;TZID=UTC:20241226T140000
DTSTAMP:20260421T101015
CREATED:20240824T165145Z
LAST-MODIFIED:20241225T115104Z
UID:1995-1735214400-1735221600@finnskogen.no
SUMMARY:ROMJULSAUKSJON 26. DESEMBER KL 12- VISNING FRA KL 11- FLOTTE VARER!!!
DESCRIPTION:VI LEGGER UT BILDER NOEN DAGER FØR AUKSJONEN. VELKOMMEN \nalle bilder er lagt ut på Facebook på FINNSKOGEN KRO OG MOTELL
URL:https://finnskogen.no/event/romjulsauksjon-26-desember-kl-12-visning-fra-kl-11-flotte-varer/
END:VEVENT
END:VCALENDAR