BEGIN:VCALENDAR
VERSION:2.0
PRODID:-//Finnskogen Kro og Motell - ECPv6.2.9//NONSGML v1.0//EN
CALSCALE:GREGORIAN
METHOD:PUBLISH
X-ORIGINAL-URL:https://finnskogen.no
X-WR-CALDESC:Arrangement for Finnskogen Kro og Motell
REFRESH-INTERVAL;VALUE=DURATION:PT1H
X-Robots-Tag:noindex
X-PUBLISHED-TTL:PT1H
BEGIN:VTIMEZONE
TZID:UTC
BEGIN:STANDARD
TZOFFSETFROM:+0000
TZOFFSETTO:+0000
TZNAME:UTC
DTSTART:20250101T000000
END:STANDARD
END:VTIMEZONE
BEGIN:VEVENT
DTSTART;TZID=UTC:20250906T110000
DTEND;TZID=UTC:20250906T170000
DTSTAMP:20260423T135005
CREATED:20250828T064208Z
LAST-MODIFIED:20250828T064208Z
UID:2228-1757156400-1757178000@finnskogen.no
SUMMARY:HØSTMARKED 6. OG 7. SEPTEMBER KL 11-17
DESCRIPTION:
URL:https://finnskogen.no/event/hostmarked-6-og-7-september-kl-11-17/
END:VEVENT
BEGIN:VEVENT
DTSTART;TZID=UTC:20250906T190000
DTEND;TZID=UTC:20250906T220000
DTSTAMP:20260423T135005
CREATED:20250828T064408Z
LAST-MODIFIED:20250828T064408Z
UID:2231-1757185200-1757196000@finnskogen.no
SUMMARY:HYGGEKVELD MED MUSIKK\, OG KANKSJE EN DANS- MAT OG DRIKKE
DESCRIPTION:FRODE NIELSEN SØRGER FOR EN MEGET HYGGELLIG KVELD
URL:https://finnskogen.no/event/hyggekveld-med-musikk-og-kanksje-en-dans-mat-og-drikke/
END:VEVENT
END:VCALENDAR