BEGIN:VCALENDAR
VERSION:2.0
PRODID:-//Finnskogen Kro og Motell - ECPv6.2.9//NONSGML v1.0//EN
CALSCALE:GREGORIAN
METHOD:PUBLISH
X-ORIGINAL-URL:https://finnskogen.no
X-WR-CALDESC:Arrangement for Finnskogen Kro og Motell
REFRESH-INTERVAL;VALUE=DURATION:PT1H
X-Robots-Tag:noindex
X-PUBLISHED-TTL:PT1H
BEGIN:VTIMEZONE
TZID:UTC
BEGIN:STANDARD
TZOFFSETFROM:+0000
TZOFFSETTO:+0000
TZNAME:UTC
DTSTART:20250101T000000
END:STANDARD
END:VTIMEZONE
BEGIN:VEVENT
DTSTART;TZID=UTC:20251101T180000
DTEND;TZID=UTC:20251101T210000
DTSTAMP:20260423T171301
CREATED:20250930T071608Z
LAST-MODIFIED:20251023T152824Z
UID:2262-1762020000-1762030800@finnskogen.no
SUMMARY:LØRDAG 1. NOVEMBER HYGGEKVELD MED MAT OG DRIKKE FRA KL 18
DESCRIPTION:
URL:https://finnskogen.no/event/lordag-8-11-salg-fra-lavvo-med-johnny-og-eva-masse-fine-ting-kanskje-julegaver/
END:VEVENT
BEGIN:VEVENT
DTSTART;TZID=UTC:20251115T120000
DTEND;TZID=UTC:20251115T170000
DTSTAMP:20260423T171301
CREATED:20251107T192020Z
LAST-MODIFIED:20251107T192020Z
UID:2342-1763208000-1763226000@finnskogen.no
SUMMARY:OPPKLINIKKENS DAG LØRDAG 15.11 FRA KL 12-17- SCANNING FRA 12-15(GRATIS) UNERHOLDNING FRA 14-17
DESCRIPTION:FRODE NIELSEN SYNGER\, SPILLER OG UNERHOLDER JØRN EIVIK VIL FORTELLE HVORDAN OKSYGENBEHANDLINGER FUNGERER- OG  HVILKE TING SOM ER VELDIG BRA FOR FOLK MED FORSKJELLLIGE TING. \nVI HAR HELSEFOLK DENNE DAGEN- SÅ DET DER MANGE SOM DER KAN SNAKKE MED DENNE DAGEN. \nALLE ER HJERTELIG VELKOMMEN. \n  \nnb:………………… vil dere ha en scanning gratis denne dagen(normalt kr 1990) så må dere ringe  tlf 90175084 slik at dere får vite når på dagen dere får time. \nVelkommen til Oppklinikken Finnskogen. \nHilsen Eva Neby
URL:https://finnskogen.no/event/oppklinikkens-dag-lordag-15-11-fra-kl-12-17-scanning-fra-12-15gratis-unerholdning-fra-14-17/
END:VEVENT
BEGIN:VEVENT
DTSTART;TZID=UTC:20251116T140000
DTEND;TZID=UTC:20251116T180000
DTSTAMP:20260423T171301
CREATED:20250930T072309Z
LAST-MODIFIED:20251107T192652Z
UID:2266-1763301600-1763316000@finnskogen.no
SUMMARY:SØNDAG 16/11 LILLI BENDRIS KOMMER KL 14. KURS VARER TIL CA KL 18- EN ETTERMIDDAG DERE IKKE VIL GLEMME.
DESCRIPTION:dronningen selv- Lilli Bendris vil fortelle dere om mange ting denne kvelden\, \n \nKURSET BLIR SLIK: \nJEG VIL HER TA DERE MED PÅ GUIDEDE MEDITASJONER OG DYPE ENERGETISKE ØVELSER. \nJEG VIL DELE INNSEIKT FRA MIN SPIRITUELLE REISE\, OG GI DEG INSPITASJON\, KRAFT OG STØRRE FORSTÅELSE AV HVEM DU ER. \nHJERTELIG VELKOMMEN TIL NOEN MAGISKE TIMER \nKOSTER KUN KR 490( BESTILL PLASS PÅ TLF 90175084
URL:https://finnskogen.no/event/sondag-16-11-oppklinikkens-dag-fra-kl-13-18-ansatte-er-tilstede-gratis-scanning-men-ma-bestilles-time/
END:VEVENT
BEGIN:VEVENT
DTSTART;TZID=UTC:20251122T180000
DTEND;TZID=UTC:20251122T230000
DTSTAMP:20260423T171301
CREATED:20251023T154831Z
LAST-MODIFIED:20251107T192859Z
UID:2332-1763834400-1763852400@finnskogen.no
SUMMARY:lørdag 22.november: JULETØMMERKOIE  kl 19.30. Vi serverer julemat fra kl 18.00(bestill julemat) her skjer det mye...
DESCRIPTION:JULETØMMERKOIE: DA KOMMER ØIVIND ROOS\, \nNILS OSCAR OTTESEN \n  \n  \nHER BLIR DET LIV???
URL:https://finnskogen.no/event/lordag-22-november-juletommerkoie-kl-19-30-vi-serverer-julemat-fra-kl-18-00bestill-julemat-her-skjer-det-mye/
END:VEVENT
END:VCALENDAR