BEGIN:VCALENDAR
VERSION:2.0
PRODID:-//Finnskogen Kro og Motell - ECPv6.2.9//NONSGML v1.0//EN
CALSCALE:GREGORIAN
METHOD:PUBLISH
X-WR-CALNAME:Finnskogen Kro og Motell
X-ORIGINAL-URL:https://finnskogen.no
X-WR-CALDESC:Arrangement for Finnskogen Kro og Motell
REFRESH-INTERVAL;VALUE=DURATION:PT1H
X-Robots-Tag:noindex
X-PUBLISHED-TTL:PT1H
BEGIN:VTIMEZONE
TZID:UTC
BEGIN:STANDARD
TZOFFSETFROM:+0000
TZOFFSETTO:+0000
TZNAME:UTC
DTSTART:20250101T000000
END:STANDARD
END:VTIMEZONE
BEGIN:VEVENT
DTSTART;TZID=UTC:20251205T190000
DTEND;TZID=UTC:20251205T233000
DTSTAMP:20260423T184715
CREATED:20250923T072552Z
LAST-MODIFIED:20250930T071828Z
UID:2251-1764961200-1764977400@finnskogen.no
SUMMARY:JULEBORD FREDAG 5/12 KL 19 GOD MAT OG UNDERHOLDNING. MÅ BESTILLES
DESCRIPTION:VI ØNSKER DERE VELKOMMEN TIL EN HYGGELIG KVELD. GOD MAT- OG DET BLIR LITT UNDERHOLDNING- OG DERE KAN GJERNE FÅ EN DANS ELLER TO.  BESTILLES: TLF 90175084
URL:https://finnskogen.no/event/julebuffet-fredag-5-12-kl-19-god-mat-og-underholdning-ma-bestilles/
END:VEVENT
BEGIN:VEVENT
DTSTART;TZID=UTC:20251206T110000
DTEND;TZID=UTC:20251207T170000
DTSTAMP:20260423T184715
CREATED:20250923T071759Z
LAST-MODIFIED:20250923T071759Z
UID:2249-1765018800-1765126800@finnskogen.no
SUMMARY:JULEMARKED  LØRDAG OG SØNDAG 6. OG 7. DESEMBER KL 11-17
DESCRIPTION:VI GLEDER OSS TIL EN MEGET HYGGELIG JULEMARKED. HER FINNER DERE DET MESTE \nVELKOMMEN
URL:https://finnskogen.no/event/julemarked-lordag-og-sondag-6-og-7-desember-kl-11-17/
END:VEVENT
BEGIN:VEVENT
DTSTART;TZID=UTC:20251206T110000
DTEND;TZID=UTC:20251207T170000
DTSTAMP:20260423T184715
CREATED:20251107T193251Z
LAST-MODIFIED:20251107T193251Z
UID:2347-1765018800-1765126800@finnskogen.no
SUMMARY:JULEMARKED 6. OG 7. DESEMBER KL 11-17  VELKOMMEN
DESCRIPTION:MENGE FLINKE UTSTILLERE ER TILSTEDE. BRUKTBUTIKKEN ER ÅPEN\, OG KROA ER ÅPEN MED SALG BL.A. JULEMAT
URL:https://finnskogen.no/event/julemarked-6-og-7-desember-kl-11-17-velkommen/
END:VEVENT
BEGIN:VEVENT
DTSTART;TZID=UTC:20251213T180000
DTEND;TZID=UTC:20251213T220000
DTSTAMP:20260423T184715
CREATED:20251107T193441Z
LAST-MODIFIED:20251107T193448Z
UID:2349-1765648800-1765663200@finnskogen.no
SUMMARY:LØRDAG 13. DESMBER JULEPUB - OG MED MAT  KL 18
DESCRIPTION:
URL:https://finnskogen.no/event/lordag-13-desmber-julepub-og-med-mat-kl-18/
END:VEVENT
BEGIN:VEVENT
DTSTART;TZID=UTC:20251224T170000
DTEND;TZID=UTC:20251224T213000
DTSTAMP:20260423T184715
CREATED:20251107T193713Z
LAST-MODIFIED:20251107T193713Z
UID:2351-1766595600-1766611800@finnskogen.no
SUMMARY:VELKOMMEN TIL JULEMAT PÅ KROA ONSDAG 24. DESEMBER  KL 17. - MÅ BESTILLE S TLF 90175084
DESCRIPTION:HJERTELIG VELKOMMEN TIL EN HYGGELIG JULAFTEN
URL:https://finnskogen.no/event/velkommen-til-julemat-pa-kroa-onsdag-24-desember-kl-17-ma-bestille-s-tlf-90175084/
END:VEVENT
BEGIN:VEVENT
DTSTART;TZID=UTC:20251226T120000
DTEND;TZID=UTC:20251226T140000
DTSTAMP:20260423T184715
CREATED:20251107T193952Z
LAST-MODIFIED:20251107T193952Z
UID:2353-1766750400-1766757600@finnskogen.no
SUMMARY:DEN STORE JULEAUKSJON 26. DESEMBER KL 12- VISNING FRA KL 11
DESCRIPTION:HJERTELIG VELKOMMEN TIL EN FIN AUKSJON. VISNING FRA KL 11
URL:https://finnskogen.no/event/den-store-juleauksjon-26-desember-kl-12-visning-fra-kl-11/
END:VEVENT
END:VCALENDAR